{"text_format":"3","workbook":"xlsx","n_sheets":2,"sheets":["名单","Sheet3"],"not_rendered":{"external_links":1,"defined_names":3},"read":"whole","date_system":"1900"}

{"sheet":"名单","index":0,"n_rows":126,"n_cols":10,"rows_kept":126,"merged":[[0,0,0,9]]}
["西北农林科技大学入选“十三五”行业规划名单"]
["序号","教材名称","主要作者","出版年月","批准年月","出版单位","印数（本）","作者署名情况","学院","备注"]
[1,"农业生态学","廖允成 林文雄",2011,"2017年","中国农业出版社","不详","教材主编",{"$f":"VLOOKUP(B3,[1]名单!$B$3:$E$127,4,FALSE)","v":"农学院"},"农业部“十三五”规划教材"]
[2,"农业信息技术(第三版）","李军",2010,"2016-04-01","科学出版社","不详","教材主编",{"$f":"VLOOKUP(B4,[1]名单!$B$3:$E$127,4,FALSE)","v":"农学院"},"“科学出版社”十三五"]
[3,"试验设计与分析","贠海燕","未出版","2016-09-01","中国林业出版社",null,"教材主编",{"$f":"VLOOKUP(B5,[1]名单!$B$3:$E$127,4,FALSE)","v":"农学院"},"林业局“十三五”规划教材第一批"]
[4,"农药学","吴文君 罗万春",2008,"2017年","中国农业出版社","不详","教材主编",{"$f":"VLOOKUP(B6,[1]名单!$B$3:$E$127,4,FALSE)","v":"植保学院"},"农业部“十三五”规划教材"]
[5,"农业标准学","李鑫",2016,"2017年","中国农业出版社","不详","教材主编",{"$f":"VLOOKUP(B7,[1]名单!$B$3:$E$127,4,FALSE)","v":"植保学院"},"农业部“十三五”规划教材"]
[6,"农业昆虫学（北方本）","仵均祥",2016,"2017年","中国农业出版社","不详","教材主编",{"$f":"VLOOKUP(B8,[1]名单!$B$3:$E$127,4,FALSE)","v":"植保学院"},"农业部“十三五”规划教材"]
[7,"农业昆虫学（非植保专业用）","仵均祥","未出版","2017年","中国农业出版社",null,"教材主编",{"$f":"VLOOKUP(B9,[1]名单!$B$3:$E$127,4,FALSE)","v":"植保学院"},"农业部“十三五”规划教材"]
[8,"植物病虫害生物防治学","吴云锋",2016,"2017年","中国农业出版社","不详","教材主编",{"$f":"VLOOKUP(B10,[1]名单!$B$3:$E$127,4,FALSE)","v":"植保学院"},"农业部“十三五”规划教材"]
[9,"植物检疫学","商鸿生",2017,"2017年","中国农业出版社","不详","教材主编",{"$f":"VLOOKUP(B11,[1]名单!$B$3:$E$127,4,FALSE)","v":"植保学院"},"农业部“十三五”规划教材"]
[10,"植物免疫学","商鸿生",2017,"2017年","中国农业出版社","不详","教材主编",{"$f":"VLOOKUP(B12,[1]名单!$B$3:$E$127,4,FALSE)","v":"植保学院"},"农业部“十三五”规划教材"]
[11,"农业园区规划与管理","邹志荣",2007,"2017年","中国农业出版社","不详","教材主编",{"$f":"VLOOKUP(B13,[1]名单!$B$3:$E$127,4,FALSE)","v":"园艺学院"},"农业部“十三五”规划教材"]
[12,"设施农业环境工程学","邹志荣",2008,"2017年","中国农业出版社","不详","教材主编",{"$f":"VLOOKUP(B14,[1]名单!$B$3:$E$127,4,FALSE)","v":"园艺学院"},"农业部“十三五”规划教材"]
[13,"园艺设施学","邹志荣","未出版","2017年","中国农业出版社",null,"教材主编",{"$f":"VLOOKUP(B15,[1]名单!$B$3:$E$127,4,FALSE)","v":"园艺学院"},"农业部“十三五”规划教材"]
[14,"园艺学概论","程智慧",2010,"2017年","中国农业出版社","不详","教材主编",{"$f":"VLOOKUP(B16,[1]名单!$B$3:$E$127,4,FALSE)","v":"园艺学院"},"农业部“十三五”规划教材"]
[15,"园艺植物种子学","巩振辉 陈儒刚",2010,"2017年","中国农业出版社","不详","教材主编",{"$f":"VLOOKUP(B17,[1]名单!$B$3:$E$127,4,FALSE)","v":"园艺学院"},"农业部“十三五”规划教材"]
[16,"家畜饲养学","姚军虎 谯仕彦","未出版","2017年","中国农业出版社",null,"教材主编",{"$f":"VLOOKUP(B18,[1]名单!$B$3:$E$127,4,FALSE)","v":"动科学院"},"农业部“十三五”规划教材"]
[17,"家畜组织学与胚胎学","沈霞芬 卿素珠",2015,"2017年","中国农业出版社","不详","教材主编",{"$f":"VLOOKUP(B19,[1]名单!$B$3:$E$127,4,FALSE)","v":"动科学院"},"农业部“十三五”规划教材"]
[18,"牛生产","昝林森",2018,"2017年","中国农业出版社","不详","教材主编",{"$f":"VLOOKUP(B20,[1]名单!$B$3:$E$127,4,FALSE)","v":"动科学院"},"农业部“十三五”规划教材"]
[19,"牛生产实习指导","昝林森",2019,"2017年","中国农业出版社","不详","教材主编",{"$f":"VLOOKUP(B21,[1]名单!$B$3:$E$127,4,FALSE)","v":"动科学院"},"农业部“十三五”规划教材"]
[20,"羊生产学","陈玉林","未出版","2017年","中国农业出版社",null,"教材主编",{"$f":"VLOOKUP(B22,[1]名单!$B$3:$E$127,4,FALSE)","v":"动科学院"},"农业部“十三五”规划教材"]
[21,"动物解剖学与组织胚胎学","陈树林","未出版","2016-04-01","科学出版社",null,"教材主编",{"$f":"VLOOKUP(B23,[1]名单!$B$3:$E$127,4,FALSE)","v":"动医学院"},"“科学出版社”十三五"]
[22,"动物性食品卫生学","张彦明 余锐萍",2015,"2017年","中国农业出版社","不详","教材主编",{"$f":"VLOOKUP(B24,[1]名单!$B$3:$E$127,4,FALSE)","v":"动医学院"},"农业部“十三五”规划教材"]
[23,"动物性食品卫生学实验指导","郭抗抗",2015,"2017年","中国农业出版社","不详","教材主编",{"$f":"VLOOKUP(B25,[1]名单!$B$3:$E$127,4,FALSE)","v":"动医学院"},"农业部“十三五”规划教材"]
[24,"基因工程","陈宏",2011,"2017年","中国农业出版社","不详","教材主编",{"$f":"VLOOKUP(B26,[1]名单!$B$3:$E$127,4,FALSE)","v":"动医学院"},"农业部“十三五”规划教材"]
[25,"兽医公共卫生学","张彦明",2011,"2017年","中国农业出版社","不详","教材主编",{"$f":"VLOOKUP(B27,[1]名单!$B$3:$E$127,4,FALSE)","v":"动医学院"},"农业部“十三五”规划教材"]
[26,"细胞工程","马保华","未出版","2017年","中国农业出版社",null,"教材主编",{"$f":"VLOOKUP(B28,[1]名单!$B$3:$E$127,4,FALSE)","v":"动医学院"},"农业部“十三五”规划教材"]
[27,"细胞工程实验教程","马保华","未出版","2017年","中国农业出版社",null,"教材主编",{"$f":"VLOOKUP(B29,[1]名单!$B$3:$E$127,4,FALSE)","v":"动医学院"},"农业部“十三五”规划教材"]
[28,"林学概论","赵忠",2008,"2017年","中国林业出版社","不详","教材主编",{"$f":"VLOOKUP(B30,[1]名单!$B$3:$E$127,4,FALSE)","v":"林学院"},"农业部“十三五”规划教材"]
[29,"森林昆虫学导论（第2版）"," 李孟楼",2010,"2016-09-01","中国林业出版社","不详","教材主编",{"$f":"VLOOKUP(B31,[1]名单!$B$3:$E$127,4,FALSE)","v":"林学院"},"林业局“十三五”规划教材第一批"]
[30,"园林工程制图（第2版） ","张远群、穆亚平",2016,"2016-09-01","中国林业出版社","不详","教材主编",{"$f":"VLOOKUP(B32,[1]名单!$B$3:$E$127,4,FALSE)","v":"林学院"},"林业局“十三五”规划教材第一批"]
[31,"园林工程制图习题集（第2版） ","张远群、穆亚平",2009,"2016-09-01","中国林业出版社","不详","教材主编",{"$f":"VLOOKUP(B33,[1]名单!$B$3:$E$127,4,FALSE)","v":"林学院"},"林业局“十三五”规划教材第一批"]
[32,"资源昆虫学（第2版）"," 李孟楼","未出版","2016-09-01","中国林业出版社",null,"教材主编",{"$f":"VLOOKUP(B34,[1]名单!$B$3:$E$127,4,FALSE)","v":"林学院"},"林业局“十三五”规划教材第一批"]
[33,"水土保持学概论","吴发启 朱首军",2016,"2017年","中国农业出版社","不详","教材主编",{"$f":"VLOOKUP(B35,[1]名单!$B$3:$E$127,4,FALSE)","v":"资环学院"},"农业部“十三五”规划教材"]
[34,"灌溉排水工程学","蔡焕杰 胡笑涛","未出版","2017年","中国农业出版社",null,"教材主编",{"$f":"VLOOKUP(B36,[1]名单!$B$3:$E$127,4,FALSE)","v":"水建学院"},"农业部“十三五”规划教材"]
[35,"机械CAD技术基础","陈军","未出版","2017年","中国农业出版社",null,"教材主编",{"$f":"VLOOKUP(B37,[1]名单!$B$3:$E$127,4,FALSE)","v":"机电学院"},"农业部“十三五”规划教材"]
[36,"Visual Basic程序设计基础","李书琴 孙健敏",2014,"2017年","中国农业出版社","不详","教材主编",{"$f":"VLOOKUP(B38,[1]名单!$B$3:$E$127,4,FALSE)","v":"信息学院"},"农业部“十三五”规划教材"]
[37,"大学计算机基础实验教程","孙健敏 陈勇",2014,"2017年","中国农业出版社","不详","教材主编",{"$f":"VLOOKUP(B39,[1]名单!$B$3:$E$127,4,FALSE)","v":"信息学院"},"农业部“十三五”规划教材"]
[38,"功能性食品学","张小莺",2017,"2017-07-01","科学出版社","不详","教材主编",{"$f":"VLOOKUP(B40,[1]名单!$B$3:$E$127,4,FALSE)","v":"动医学院"},"“科学出版社”十三五"]
[39,"果品蔬菜贮藏运销学","窛莉萍","未出版","2017年","中国农业出版社",null,"教材主编",{"$f":"VLOOKUP(B41,[1]名单!$B$3:$E$127,4,FALSE)","v":"食品学院"},"农业部“十三五”规划教材"]
[40,"食品安全保藏学","罗安伟",2019,"2017年","中国轻工业出版社","不详","教材主编",{"$f":"VLOOKUP(B42,[1]名单!$B$3:$E$127,4,FALSE)","v":"食品学院"},"农业部“十三五”规划教材"]
[41,"食品安全保藏学","罗安伟\n刘兴华",2019,"2018-12-01","中国轻工业出版社","不详","教材主编",{"$f":"VLOOKUP(B43,[1]名单!$B$3:$E$127,4,FALSE)","v":"食品学院"},"中国轻工业“十三五”规划教材第二批"]
[42,"食品安全控制技术","岳田利","未出版","2017年","中国农业出版社",null,"教材主编",{"$f":"VLOOKUP(B44,[1]名单!$B$3:$E$127,4,FALSE)","v":"食品学院"},"农业部“十三五”规划教材"]
[43,"食品安全学","张小莺",2017,"2017-07-01","科学出版社","不详","教材主编",{"$f":"VLOOKUP(B45,[1]名单!$B$3:$E$127,4,FALSE)","v":"动医学院"},"“科学出版社”十三五"]
[44,"食品标准与技术法规","张建新",2014,"2017年","中国农业出版社","不详","教材主编",{"$f":"VLOOKUP(B46,[1]名单!$B$3:$E$127,4,FALSE)","v":"食品学院"},"农业部“十三五”规划教材"]
[45,"食品分子生物学","吕欣","未出版","2017年","中国农业出版社",null,"教材主编",{"$f":"VLOOKUP(B47,[1]名单!$B$3:$E$127,4,FALSE)","v":"食品学院"},"农业部“十三五”规划教材"]
[46,"食品感官与评价","杜双奎","未出版","2016-04-01","科学出版社",null,"教材主编",{"$f":"VLOOKUP(B48,[1]名单!$B$3:$E$127,4,FALSE)","v":"食品学院"},"“科学出版社”十三五"]
[47,"食品工艺学试验","丁武",2012,"2018-12-01","中国轻工业出版社","不详","教材主编",{"$f":"VLOOKUP(B49,[1]名单!$B$3:$E$127,4,FALSE)","v":"食品学院"},"中国轻工业“十三五”规划教材第二批"]
[48,"食品试验优化设计（第二版）","杜双奎",2011,"2018-12-01","中国轻工业出版社","不详","教材主编",{"$f":"VLOOKUP(B50,[1]名单!$B$3:$E$127,4,FALSE)","v":"食品学院"},"中国轻工业“十三五”规划教材第二批"]
[49,"食品营养学","刘学波","未出版","2016-09-01","中国林业出版社",null,"教材主编",{"$f":"VLOOKUP(B51,[1]名单!$B$3:$E$127,4,FALSE)","v":"食品学院"},"林业局“十三五”规划教材第一批"]
[50,"试验优化设计与统计分析","杜双奎","未出版","2017年","科学出版社",null,"教材主编",{"$f":"VLOOKUP(B52,[1]名单!$B$3:$E$127,4,FALSE)","v":"食品学院"},"“科学出版社”十三五"]
[51,"天然产物结构提取工艺学","徐怀德\n罗安伟","未出版","2018-12-01","中国轻工业出版社",null,"教材主编",{"$f":"VLOOKUP(B53,[1]名单!$B$3:$E$127,4,FALSE)","v":"食品学院"},"中国轻工业“十三五”规划教材第一批"]
[52,"核农学基础理论与实验技术","吕金印","未出版","2017年","中国农业出版社",null,"教材主编",{"$f":"VLOOKUP(B54,[1]名单!$B$3:$E$127,4,FALSE)","v":"生命学院"},"农业部“十三五”规划教材"]
[53,"大学物理学","张社奇 解迎革 王开明",2014,"2017年","中国农业出版社","不详","教材主编",{"$f":"VLOOKUP(B55,[1]名单!$B$3:$E$127,4,FALSE)","v":"理学院"},"农业部“十三五”规划教材"]
[54,"高等数学","刘迎洲 吴养会",2012,"2017年","中国农业出版社","不详","教材主编",{"$f":"VLOOKUP(B56,[1]名单!$B$3:$E$127,4,FALSE)","v":"理学院"},"农业部“十三五”规划教材"]
[55,"基础概率论及其应用","徐钊 任争争","未出版","2017年","中国农业出版社",null,"教材主编",{"$f":"VLOOKUP(B57,[1]名单!$B$3:$E$127,4,FALSE)","v":"理学院"},"农业部“十三五”规划教材"]
[56,"数学建模","连  坡",2011,"2017年","中国农业出版社","不详","教材主编",{"$f":"VLOOKUP(B58,[1]名单!$B$3:$E$127,4,FALSE)","v":"理学院"},"农业部“十三五”规划教材"]
[57,"线性代数","边宽江 连坡",2017,"2017年","中国农业出版社","不详","教材主编",{"$f":"VLOOKUP(B59,[1]名单!$B$3:$E$127,4,FALSE)","v":"理学院"},"农业部“十三五”规划教材"]
[58,"天然产物结构解析","高锦明",2017,"2017年","科学出版社","不详","教材主编",{"$f":"VLOOKUP(B60,[1]名单!$B$3:$E$127,4,FALSE)","v":"化药学院"},"“科学出版社”十三五"]
[59,"物理化学","杨亚提",2010,"2017年","中国农业出版社","不详","教材主编",{"$f":"VLOOKUP(B61,[1]名单!$B$3:$E$127,4,FALSE)","v":"化药学院"},"农业部“十三五”规划教材"]
[60,"植物化学","高锦明",2017,"2016-04-01","科学出版社","不详","教材主编",{"$f":"VLOOKUP(B62,[1]名单!$B$3:$E$127,4,FALSE)","v":"化药学院"},"“科学出版社”十三五"]
[61,"成本会计学","孟全省",2018,"2017年","中国农业出版社","不详","教材主编",{"$f":"VLOOKUP(B63,[1]名单!$B$3:$E$127,4,FALSE)","v":"经管学院"},"农业部“十三五”规划教材"]
[62,"会计学基础","孟全省 刘麦荣",2015,"2017年","中国农业出版社","不详","教材主编",{"$f":"VLOOKUP(B64,[1]名单!$B$3:$E$127,4,FALSE)","v":"经管学院"},"农业部“十三五”规划教材"]
[63,"大学体育教程","任启俊",2018,"2017年","中国农业出版社","不详","教材主编",{"$f":"VLOOKUP(B65,[1]名单!$B$3:$E$127,4,FALSE)","v":"体育部"},"农业部“十三五”规划教材"]
[64,"大学生思想政治理论课实践教学教程","王海成","未出版","2017年","中国农业出版社",null,"教材主编",{"$f":"VLOOKUP(B66,[1]名单!$B$3:$E$127,4,FALSE)","v":"马克思主义学院"},"农业部“十三五”规划教材"]
[65,"气象学","刘淑明 严菊芳","未出版","2019-12-01","还未确定",null,"教材主编",{"$f":"VLOOKUP(B67,[1]名单!$B$3:$E$127,4,FALSE)","v":"生命"},"国家林业和草原局普通高等教育“十三五”规划教材"]
[66,"经济林栽培学（北方本）","刘杜玲","未出版","2019-12-01","还未确定",null,"教材主编",{"$f":"VLOOKUP(B68,[1]名单!$B$3:$E$127,4,FALSE)","v":"林学"},"国家林业和草原局普通高等教育“十三五”规划教材"]
[67,"微生物源农药","韩立荣 冯俊涛","未出版","2019-12-01","还未确定",null,"教材主编",{"$f":"VLOOKUP(B69,[1]名单!$B$3:$E$127,4,FALSE)","v":"植保"},"国家林业和草原局普通高等教育“十三五”规划教材"]
[68,"植物学实验","姜在民 易华",2016,"2019-12-01","还未确定",null,"教材主编",{"$f":"VLOOKUP(B70,[1]名单!$B$3:$E$127,4,FALSE)","v":"生命"},"国家林业和草原局普通高等教育“十三五”规划教材"]
[69,"水土保持规划学（第2版）","吴发启",2009,"2019-12-01","还未确定",null,"教材主编",{"$f":"VLOOKUP(B71,[1]名单!$B$3:$E$127,4,FALSE)","v":"资环"},"国家林业和草原局普通高等教育“十三五”规划教材"]
[70,"水土保持经济植物栽培学（第2版）","王进鑫  陈存及",2012,"2019-12-01","还未确定",null,"教材主编",{"$f":"VLOOKUP(B72,[1]名单!$B$3:$E$127,4,FALSE)","v":"资环"},"国家林业和草原局普通高等教育“十三五”规划教材"]
[71,"资源环境分析技术","郑险峰","未出版","2019-12-01","还未确定",null,"教材主编",{"$f":"VLOOKUP(B73,[1]名单!$B$3:$E$127,4,FALSE)","v":"资环"},"国家林业和草原局普通高等教育“十三五”规划教材"]
[72,"土壤退化与修复","贾汉忠","未出版","2019-12-01","还未确定",null,"教材主编",{"$f":"VLOOKUP(B74,[1]名单!$B$3:$E$127,4,FALSE)","v":"资环"},"国家林业和草原局普通高等教育“十三五”规划教材"]
[73,"固体废物处理处置实验实习教程","黄懿梅","未出版","2019-12-01","还未确定",null,"教材主编",{"$f":"VLOOKUP(B75,[1]名单!$B$3:$E$127,4,FALSE)","v":"资环"},"国家林业和草原局普通高等教育“十三五”规划教材"]
[74,"工程制图与CAD实践指导","毛晖","未出版","2019-12-01","还未确定",null,"教材主编",{"$f":"VLOOKUP(B76,[1]名单!$B$3:$E$127,4,FALSE)","v":"资环"},"国家林业和草原局普通高等教育“十三五”规划教材"]
[75,"环境工程实验指导书","强虹","未出版","2019-12-01","还未确定",null,"教材主编",{"$f":"VLOOKUP(B77,[1]名单!$B$3:$E$127,4,FALSE)","v":"资环"},"国家林业和草原局普通高等教育“十三五”规划教材"]
[76,"创新能力培养项目化教程","韩维生","未出版","2019-12-01","还未确定",null,"教材主编",{"$f":"VLOOKUP(B78,[1]名单!$B$3:$E$127,4,FALSE)","v":"林学"},"国家林业和草原局普通高等教育“十三五”规划教材"]
[77,"物理化学实验","马亚团","未出版","2019-12-01","还未确定",null,"教材主编",{"$f":"VLOOKUP(B79,[1]名单!$B$3:$E$127,4,FALSE)","v":"化药"},"国家林业和草原局普通高等教育“十三五”规划教材"]
[78,"园艺专业精密仪器操作技能实验指导书","张静","未出版","2019-12-01","还未确定",null,"教材主编",{"$f":"VLOOKUP(B80,[1]名单!$B$3:$E$127,4,FALSE)","v":"园艺"},"国家林业和草原局普通高等教育“十三五”规划教材"]
[79,"盆景艺术双语教程","宋军阳","未出版","2019-12-01","还未确定",null,"教材主编",{"$f":"VLOOKUP(B81,[1]名单!$B$3:$E$127,4,FALSE)","v":"园林"},"国家林业和草原局普通高等教育“十三五”规划教材"]
[80,"饮料工艺学","罗安伟","未出版","2019-12-01","还未确定",null,"教材主编",{"$f":"VLOOKUP(B82,[1]名单!$B$3:$E$127,4,FALSE)","v":"食品"},"国家林业和草原局普通高等教育“十三五”规划教材"]
[81,"葡萄防灾减灾","房玉林 张宗勤","未出版","2019-12-01","还未确定",null,"教材主编",{"$f":"VLOOKUP(B83,[1]名单!$B$3:$E$127,4,FALSE)","v":"葡萄酒"},"国家林业和草原局普通高等教育“十三五”规划教材"]
[82,"葡萄酒市场学","李甲贵","未出版","2019-12-01","还未确定",null,"教材主编",{"$f":"VLOOKUP(B84,[1]名单!$B$3:$E$127,4,FALSE)","v":"葡萄酒学院"},"国家林业和草原局普通高等教育“十三五”规划教材"]
[83,"葡萄学实验实习指导书","刘旭","未出版","2019-12-01","还未确定",null,"教材主编",{"$f":"VLOOKUP(B85,[1]名单!$B$3:$E$127,4,FALSE)","v":"葡萄酒"},"国家林业和草原局普通高等教育“十三五”规划教材"]
[84,"蛋白质分离纯化实验技术","韩召奋","未出版","2019-12-01","还未确定",null,"教材主编",{"$f":"VLOOKUP(B86,[1]名单!$B$3:$E$127,4,FALSE)","v":"生命"},"国家林业和草原局普通高等教育“十三五”规划教材"]
[85,"动物生产学实验实习指导","安小鹏","未出版","2019-12-01","还未确定",null,"教材主编",{"$f":"VLOOKUP(B87,[1]名单!$B$3:$E$127,4,FALSE)","v":"动科"},"国家林业和草原局普通高等教育“十三五”规划教材"]
[86,"家具与室内设计专业毕业设计指导","宋孝周 孙景荣","未出版","2019-12-01","还未确定",null,"教材主编",{"$f":"VLOOKUP(B88,[1]名单!$B$3:$E$127,4,FALSE)","v":"林学"},"国家林业和草原局普通高等教育“十三五”规划教材"]
[87,"动物行为与福利学","任战军",null,"已公示",null,null,"教材主编",{"$f":"VLOOKUP(B89,[1]名单!$B$3:$E$127,4,FALSE)","v":"动科学院"},"第二批农业农村部 十三五”规划教材"]
[88,"动物细胞生物学","欧阳五庆",null,"已公示",null,null,"教材主编",{"$f":"VLOOKUP(B90,[1]名单!$B$3:$E$127,4,FALSE)","v":0},"第二批农业农村部 十三五”规划教材"]
[89,"动物中毒病学","路浩",null,"已公示",null,null,"教材主编",{"$f":"VLOOKUP(B91,[1]名单!$B$3:$E$127,4,FALSE)","v":"动医学院"},"第二批农业农村部 十三五”规划教材"]
[90,"兽医寄生虫学实验指导","林青\n王瑞",null,"已公示",null,null,"教材主编",{"$f":"VLOOKUP(B92,[1]名单!$B$3:$E$127,4,FALSE)","v":"动医学院"},"第二批农业农村部 十三五”规划教材"]
[91,"葡萄酒分析检验","王华\n张予林",null,"已公示",null,null,"教材主编",{"$f":"VLOOKUP(B93,[1]名单!$B$3:$E$127,4,FALSE)","v":"葡萄酒学院"},"第二批农业农村部 十三五”规划教材"]
[92,"葡萄酒市场学","李甲贵",null,"已公示",null,null,"教材主编",{"$f":"VLOOKUP(B94,[1]名单!$B$3:$E$127,4,FALSE)","v":"葡萄酒学院"},"第二批农业农村部 十三五”规划教材"]
[93,"葡萄品种学","张振文\n惠竹梅",null,"已公示",null,null,"教材主编",{"$f":"VLOOKUP(B95,[1]名单!$B$3:$E$127,4,FALSE)","v":"葡萄酒学院"},"第二批农业农村部 十三五”规划教材"]
[94,"葡萄学实验实习指导","刘旭",null,"已公示",null,null,"教材主编",{"$f":"VLOOKUP(B96,[1]名单!$B$3:$E$127,4,FALSE)","v":"葡萄酒学院"},"第二批农业农村部 十三五”规划教材"]
[95,"食品机械与设备","王云阳\n田玉庭",null,"已公示",null,null,"教材主编",{"$f":"VLOOKUP(B97,[1]名单!$B$3:$E$127,4,FALSE)","v":"食品学院"},"第二批农业农村部 十三五”规划教材"]
[96,"食品生物技术导论","刘斌\n赵旭博",null,"已公示",null,null,"教材主编",{"$f":"VLOOKUP(B98,[1]名单!$B$3:$E$127,4,FALSE)","v":"食品学院"},"第二批农业农村部 十三五”规划教材"]
[97,"材料力学","王正中",null,"已公示",null,null,"教材主编",{"$f":"VLOOKUP(B99,[1]名单!$B$3:$E$127,4,FALSE)","v":"水利与建筑工程学院"},"第二批农业农村部 十三五”规划教材"]
[98,"智能传感与检测技术","张海辉\n陈立平",null,"已公示",null,null,"教材主编",{"$f":"VLOOKUP(B100,[1]名单!$B$3:$E$127,4,FALSE)","v":"机械与电子工程学院"},"第二批农业农村部 十三五”规划教材"]
[99,"高等数学（经管类）","解小莉\n吴养会",null,"已公示",null,null,"教材主编",{"$f":"VLOOKUP(B101,[1]名单!$B$3:$E$127,4,FALSE)","v":"理学院"},"第二批农业农村部 十三五”规划教材"]
[100,"天然产物提取分离与鉴定技术","王俊儒\n张继文\n白乃生",null,"已公示",null,null,"教材主编",{"$f":"VLOOKUP(B102,[1]名单!$B$3:$E$127,4,FALSE)","v":"化学与药学院"},"第二批农业农村部 十三五”规划教材"]
[101,"测量学","张鑫",null,"已公示",null,null,"教材主编",{"$f":"VLOOKUP(B103,[1]名单!$B$3:$E$127,4,FALSE)","v":"水利与建筑工程学院"},"第二批农业农村部 十三五”规划教材"]
[102,"货币银行学","罗剑朝",null,"已公示",null,null,"教材主编",{"$f":"VLOOKUP(B104,[1]名单!$B$3:$E$127,4,FALSE)","v":"经济管理学院"},"第二批农业农村部 十三五”规划教材"]
[103,"市场营销学","霍学喜",null,"已公示",null,null,"教材主编",{"$f":"VLOOKUP(B105,[1]名单!$B$3:$E$127,4,FALSE)","v":"经济管理学院"},"第二批农业农村部 十三五”规划教材"]
[104,"社会科学定量研究的统计分析及SPSS应用","朱建春",null,"已公示",null,null,"教材主编",{"$f":"VLOOKUP(B106,[1]名单!$B$3:$E$127,4,FALSE)","v":0},"第二批农业农村部 十三五”规划教材"]
[105,"农业资源与区划","杨改河\n冯永忠",null,"已公示",null,null,"教材主编",{"$f":"VLOOKUP(B107,[1]名单!$B$3:$E$127,4,FALSE)","v":0},"第二批农业农村部 十三五”规划教材"]
[106,"大学生创新创业教程","欧阳五庆",null,"已公示",null,null,"教材主编",{"$f":"VLOOKUP(B108,[1]名单!$B$3:$E$127,4,FALSE)","v":0},"第二批农业农村部 十三五”规划教材"]
[107,"农林类高校大学生职业生涯规划与就业指导","和红燕\n陈长友",null,"已公示",null,null,"教材主编",{"$f":"VLOOKUP(B109,[1]名单!$B$3:$E$127,4,FALSE)","v":0},"第二批农业农村部 十三五”规划教材"]
[108,"英语口语与演讲","张晓容\n李敏",null,"已公示",null,null,"教材主编",{"$f":"VLOOKUP(B110,[1]名单!$B$3:$E$127,4,FALSE)","v":0},"第二批农业农村部 十三五”规划教材"]
[109,"农业发展与人类文明","冯永忠",null,"已公示",null,null,"教材主编",{"$f":"VLOOKUP(B111,[1]名单!$B$3:$E$127,4,FALSE)","v":0},"第二批农业农村部 十三五”规划教材"]
[110,"秦岭生态文明教育","朱宏斌\n王娜",null,"已公示",null,null,"教材主编",{"$f":"VLOOKUP(B112,[1]名单!$B$3:$E$127,4,FALSE)","v":0},"第二批农业农村部 十三五”规划教材"]
[111,"虚拟水与水足迹","吴普特",null,"已公示",null,null,"教材主编",{"$f":"VLOOKUP(B113,[1]名单!$B$3:$E$127,4,FALSE)","v":0},"第二批农业农村部 十三五”规划教材"]
[112,"中华农耕文明史","朱宏斌\n卢勇",null,"已公示",null,null,"教材主编",{"$f":"VLOOKUP(B114,[1]名单!$B$3:$E$127,4,FALSE)","v":0},"第二批农业农村部 十三五”规划教材"]
[113,"大学信息技术","孙健敏",null,"已公示",null,null,"教材主编",{"$f":"VLOOKUP(B115,[1]名单!$B$3:$E$127,4,FALSE)","v":0},"第二批农业农村部 十三五”规划教材"]
[114,"环境监测","黄懿梅\n曲东",null,"已公示",null,null,"教材主编",{"$f":"VLOOKUP(B116,[1]名单!$B$3:$E$127,4,FALSE)","v":0},"第二批农业农村部 十三五”规划教材"]
[115,"环境监测实验","梁东丽\n王铁成",null,"已公示",null,null,"教材主编",{"$f":"VLOOKUP(B117,[1]名单!$B$3:$E$127,4,FALSE)","v":0},"第二批农业农村部 十三五”规划教材"]
[116,"农林气象学","刘淑明\n张丁玲",null,"已公示",null,null,"教材主编",{"$f":"VLOOKUP(B118,[1]名单!$B$3:$E$127,4,FALSE)","v":0},"第二批农业农村部 十三五”规划教材"]
[117,"普通植物病理学","康振生\n孙广宇",null,"已公示",null,null,"教材主编",{"$f":"VLOOKUP(B119,[1]名单!$B$3:$E$127,4,FALSE)","v":0},"第二批农业农村部 十三五”规划教材"]
[118,"普通植物病理学实验与实习指导","孙广宇\n康振生",null,"已公示",null,null,"教材主编",{"$f":"VLOOKUP(B120,[1]名单!$B$3:$E$127,4,FALSE)","v":0},"第二批农业农村部 十三五”规划教材"]
[119,"土壤侵蚀与防治","吴发启\n王健",null,"已公示",null,null,"教材主编",{"$f":"VLOOKUP(B121,[1]名单!$B$3:$E$127,4,FALSE)","v":0},"第二批农业农村部 十三五”规划教材"]
[120,"土壤与植物营养学现代实验技术","吕家珑\n张红",null,"已公示",null,null,"教材主编",{"$f":"VLOOKUP(B122,[1]名单!$B$3:$E$127,4,FALSE)","v":0},"第二批农业农村部 十三五”规划教材"]
[121,"新型肥料生产原理与技术","翟丙年",null,"已公示",null,null,"教材主编",{"$f":"VLOOKUP(B123,[1]名单!$B$3:$E$127,4,FALSE)","v":0},"第二批农业农村部 十三五”规划教材"]
[122,"园林景观素描","段渊古",null,"已公示",null,null,"教材主编",{"$f":"VLOOKUP(B124,[1]名单!$B$3:$E$127,4,FALSE)","v":0},"第二批农业农村部 十三五”规划教材"]
[123,"细胞生物学","陈坤明\n李绍军",null,"已公示",null,null,"教材主编",{"$f":"VLOOKUP(B125,[1]名单!$B$3:$E$127,4,FALSE)","v":0},"第二批农业农村部 十三五”规划教材"]
[124,"遗传学","刘曙东\n奚亚军",null,"已公示",null,null,"教材主编",{"$f":"VLOOKUP(B126,[1]名单!$B$3:$E$127,4,FALSE)","v":0},"第二批农业农村部 十三五”规划教材"]

{"sheet":"Sheet3","index":1,"n_rows":0,"n_cols":0,"rows_kept":0}